BEGIN:VCALENDAR
VERSION:2.0
PRODID:-//Backgammon Revival Solothurn - ECPv6.15.20//NONSGML v1.0//EN
CALSCALE:GREGORIAN
METHOD:PUBLISH
X-ORIGINAL-URL:https://backgammon-solothurn.ch
X-WR-CALDESC:Veranstaltungen für Backgammon Revival Solothurn
REFRESH-INTERVAL;VALUE=DURATION:PT1H
X-Robots-Tag:noindex
X-PUBLISHED-TTL:PT1H
BEGIN:VTIMEZONE
TZID:UTC
BEGIN:STANDARD
TZOFFSETFROM:+0000
TZOFFSETTO:+0000
TZNAME:UTC
DTSTART:20250101T000000
END:STANDARD
END:VTIMEZONE
BEGIN:VEVENT
DTSTART;TZID=UTC:20260204T180000
DTEND;TZID=UTC:20260204T220000
DTSTAMP:20260425T102950
CREATED:20251110T165935Z
LAST-MODIFIED:20251110T165935Z
UID:5780-1770228000-1770242400@backgammon-solothurn.ch
SUMMARY:Backgammon im Chutz
DESCRIPTION:Unsere wiederkehrenden Spielabende jeden zweiten Mittwoch im Restaurant Chutz – gemütlich\, lehrreich\, kaum mehr wegzudenken…
URL:https://backgammon-solothurn.ch/events/backgammon-im-chutz-14/
LOCATION:Galerie im Restaurant Chutz\, Landhausquai 3\, Solothurn\, 4500\, Schweiz
CATEGORIES:Backgammon Training
ORGANIZER;CN="Backgammon Revival":MAILTO:info@backgammon-solothurn.ch
END:VEVENT
BEGIN:VEVENT
DTSTART;VALUE=DATE:20260211
DTEND;VALUE=DATE:20260212
DTSTAMP:20260425T102951
CREATED:20251110T170120Z
LAST-MODIFIED:20251110T170550Z
UID:5782-1770768000-1770854399@backgammon-solothurn.ch
SUMMARY:Kein Spielabend - Chesslete
DESCRIPTION:Unsere wiederkehrenden Spielabende jeden zweiten Mittwoch im Restaurant Chutz – gemütlich\, lehrreich\, kaum mehr wegzudenken…
URL:https://backgammon-solothurn.ch/events/kein-spielabend/
ORGANIZER;CN="Backgammon Revival":MAILTO:info@backgammon-solothurn.ch
END:VEVENT
BEGIN:VEVENT
DTSTART;VALUE=DATE:20260218
DTEND;VALUE=DATE:20260219
DTSTAMP:20260425T102951
CREATED:20251110T170407Z
LAST-MODIFIED:20251110T170524Z
UID:5784-1771372800-1771459199@backgammon-solothurn.ch
SUMMARY:Kein Spielabend - Aschermittwoch
DESCRIPTION:Unsere wiederkehrenden Spielabende jeden zweiten Mittwoch im Restaurant Chutz – gemütlich\, lehrreich\, kaum mehr wegzudenken…
URL:https://backgammon-solothurn.ch/events/kein-spielabend-2/
ORGANIZER;CN="Backgammon Revival":MAILTO:info@backgammon-solothurn.ch
END:VEVENT
BEGIN:VEVENT
DTSTART;TZID=UTC:20260225T180000
DTEND;TZID=UTC:20260225T220000
DTSTAMP:20260425T102951
CREATED:20251110T170624Z
LAST-MODIFIED:20251110T170624Z
UID:5789-1772042400-1772056800@backgammon-solothurn.ch
SUMMARY:Backgammon im Chutz
DESCRIPTION:Unsere wiederkehrenden Spielabende jeden zweiten Mittwoch im Restaurant Chutz – gemütlich\, lehrreich\, kaum mehr wegzudenken…
URL:https://backgammon-solothurn.ch/events/backgammon-im-chutz-15/
LOCATION:Galerie im Restaurant Chutz\, Landhausquai 3\, Solothurn\, 4500\, Schweiz
CATEGORIES:Backgammon Training
ORGANIZER;CN="Backgammon Revival":MAILTO:info@backgammon-solothurn.ch
END:VEVENT
END:VCALENDAR