BEGIN:VCALENDAR
VERSION:2.0
PRODID:-//Backgammon Revival Solothurn - ECPv6.15.20//NONSGML v1.0//EN
CALSCALE:GREGORIAN
METHOD:PUBLISH
X-WR-CALNAME:Backgammon Revival Solothurn
X-ORIGINAL-URL:https://backgammon-solothurn.ch
X-WR-CALDESC:Veranstaltungen für Backgammon Revival Solothurn
REFRESH-INTERVAL;VALUE=DURATION:PT1H
X-Robots-Tag:noindex
X-PUBLISHED-TTL:PT1H
BEGIN:VTIMEZONE
TZID:UTC
BEGIN:STANDARD
TZOFFSETFROM:+0000
TZOFFSETTO:+0000
TZNAME:UTC
DTSTART:20250101T000000
END:STANDARD
END:VTIMEZONE
BEGIN:VEVENT
DTSTART;TZID=UTC:20260429T180000
DTEND;TZID=UTC:20260429T220000
DTSTAMP:20260422T030337
CREATED:20260215T104332Z
LAST-MODIFIED:20260215T104332Z
UID:5806-1777485600-1777500000@backgammon-solothurn.ch
SUMMARY:Backgammon im Chutz
DESCRIPTION:Unsere wiederkehrenden Spielabende jeden zweiten Mittwoch im Restaurant Chutz – gemütlich\, lehrreich\, kaum mehr wegzudenken…
URL:https://backgammon-solothurn.ch/events/backgammon-im-chutz-22/
LOCATION:Galerie im Restaurant Chutz\, Landhausquai 3\, Solothurn\, 4500\, Schweiz
CATEGORIES:Backgammon Training
ORGANIZER;CN="Backgammon Revival":MAILTO:info@backgammon-solothurn.ch
END:VEVENT
BEGIN:VEVENT
DTSTART;TZID=UTC:20260502T113000
DTEND;TZID=UTC:20260502T200000
DTSTAMP:20260422T030337
CREATED:20250914T131938Z
LAST-MODIFIED:20250914T151555Z
UID:5729-1777721400-1777752000@backgammon-solothurn.ch
SUMMARY:Südbaden Cup
DESCRIPTION:Unsere wiederkehrenden Spielabende jeden zweiten Mittwoch im Restaurant Chutz – gemütlich\, lehrreich\, kaum mehr wegzudenken…
URL:https://backgammon-solothurn.ch/events/suedbaden-cup-4/
LOCATION:Roccafé in Denzlingen (Saal)\, Hauptstrasse 134\, Denzlingen\, Baden-Württemberg\, 79211
CATEGORIES:Backgammon Turnier
END:VEVENT
BEGIN:VEVENT
DTSTART;TZID=UTC:20260513T180000
DTEND;TZID=UTC:20260513T220000
DTSTAMP:20260422T030337
CREATED:20260215T104708Z
LAST-MODIFIED:20260215T104708Z
UID:5808-1778695200-1778709600@backgammon-solothurn.ch
SUMMARY:Backgammon im Chutz
DESCRIPTION:Unsere wiederkehrenden Spielabende jeden zweiten Mittwoch im Restaurant Chutz – gemütlich\, lehrreich\, kaum mehr wegzudenken…
URL:https://backgammon-solothurn.ch/events/backgammon-im-chutz-23/
LOCATION:Galerie im Restaurant Chutz\, Landhausquai 3\, Solothurn\, 4500\, Schweiz
CATEGORIES:Backgammon Training
ORGANIZER;CN="Backgammon Revival":MAILTO:info@backgammon-solothurn.ch
END:VEVENT
BEGIN:VEVENT
DTSTART;TZID=UTC:20260527T180000
DTEND;TZID=UTC:20260527T220000
DTSTAMP:20260422T030337
CREATED:20260215T104744Z
LAST-MODIFIED:20260215T104744Z
UID:5810-1779904800-1779919200@backgammon-solothurn.ch
SUMMARY:Backgammon im Chutz
DESCRIPTION:Unsere wiederkehrenden Spielabende jeden zweiten Mittwoch im Restaurant Chutz – gemütlich\, lehrreich\, kaum mehr wegzudenken…
URL:https://backgammon-solothurn.ch/events/backgammon-im-chutz-24/
LOCATION:Galerie im Restaurant Chutz\, Landhausquai 3\, Solothurn\, 4500\, Schweiz
CATEGORIES:Backgammon Training
ORGANIZER;CN="Backgammon Revival":MAILTO:info@backgammon-solothurn.ch
END:VEVENT
BEGIN:VEVENT
DTSTART;TZID=UTC:20260610T180000
DTEND;TZID=UTC:20260610T220000
DTSTAMP:20260422T030337
CREATED:20260215T104812Z
LAST-MODIFIED:20260215T104812Z
UID:5812-1781114400-1781128800@backgammon-solothurn.ch
SUMMARY:Backgammon im Chutz
DESCRIPTION:Unsere wiederkehrenden Spielabende jeden zweiten Mittwoch im Restaurant Chutz – gemütlich\, lehrreich\, kaum mehr wegzudenken…
URL:https://backgammon-solothurn.ch/events/backgammon-im-chutz-75/
LOCATION:Galerie im Restaurant Chutz\, Landhausquai 3\, Solothurn\, 4500\, Schweiz
CATEGORIES:Backgammon Training
ORGANIZER;CN="Backgammon Revival":MAILTO:info@backgammon-solothurn.ch
END:VEVENT
BEGIN:VEVENT
DTSTART;TZID=UTC:20260624T180000
DTEND;TZID=UTC:20260624T220000
DTSTAMP:20260422T030337
CREATED:20260215T104846Z
LAST-MODIFIED:20260215T104929Z
UID:5814-1782324000-1782338400@backgammon-solothurn.ch
SUMMARY:Backgammon im Chutz - Letzter Spielabend vor der Sommerpause!
DESCRIPTION:Unsere wiederkehrenden Spielabende jeden zweiten Mittwoch im Restaurant Chutz – gemütlich\, lehrreich\, kaum mehr wegzudenken…
URL:https://backgammon-solothurn.ch/events/backgammon-im-chutz-77/
LOCATION:Galerie im Restaurant Chutz\, Landhausquai 3\, Solothurn\, 4500\, Schweiz
CATEGORIES:Backgammon Training
ORGANIZER;CN="Backgammon Revival":MAILTO:info@backgammon-solothurn.ch
END:VEVENT
BEGIN:VEVENT
DTSTART;VALUE=DATE:20260701
DTEND;VALUE=DATE:20260702
DTSTAMP:20260422T030337
CREATED:20260215T105240Z
LAST-MODIFIED:20260215T105306Z
UID:5817-1782864000-1782950399@backgammon-solothurn.ch
SUMMARY:Sommerpause
DESCRIPTION:Unsere wiederkehrenden Spielabende jeden zweiten Mittwoch im Restaurant Chutz – gemütlich\, lehrreich\, kaum mehr wegzudenken…
URL:https://backgammon-solothurn.ch/events/sommerpause/
ORGANIZER;CN="Backgammon Revival":MAILTO:info@backgammon-solothurn.ch
END:VEVENT
BEGIN:VEVENT
DTSTART;VALUE=DATE:20260708
DTEND;VALUE=DATE:20260709
DTSTAMP:20260422T030337
CREATED:20260215T105351Z
LAST-MODIFIED:20260215T105351Z
UID:5820-1783468800-1783555199@backgammon-solothurn.ch
SUMMARY:Sommerpause
DESCRIPTION:Unsere wiederkehrenden Spielabende jeden zweiten Mittwoch im Restaurant Chutz – gemütlich\, lehrreich\, kaum mehr wegzudenken…
URL:https://backgammon-solothurn.ch/events/sommerpause-2/
ORGANIZER;CN="Backgammon Revival":MAILTO:info@backgammon-solothurn.ch
END:VEVENT
BEGIN:VEVENT
DTSTART;TZID=UTC:20260711T113000
DTEND;TZID=UTC:20260711T200000
DTSTAMP:20260422T030337
CREATED:20250914T132022Z
LAST-MODIFIED:20250914T151617Z
UID:5731-1783769400-1783800000@backgammon-solothurn.ch
SUMMARY:Südbaden Cup
DESCRIPTION:Unsere wiederkehrenden Spielabende jeden zweiten Mittwoch im Restaurant Chutz – gemütlich\, lehrreich\, kaum mehr wegzudenken…
URL:https://backgammon-solothurn.ch/events/suedbaden-cup-5/
LOCATION:Roccafé in Denzlingen (Restaurant)\, Hauptstrasse 134\, Denzlingen\, Baden-Württemberg\, 79211
CATEGORIES:Backgammon Turnier
END:VEVENT
BEGIN:VEVENT
DTSTART;VALUE=DATE:20260715
DTEND;VALUE=DATE:20260716
DTSTAMP:20260422T030337
CREATED:20260215T105412Z
LAST-MODIFIED:20260215T105412Z
UID:5822-1784073600-1784159999@backgammon-solothurn.ch
SUMMARY:Sommerpause
DESCRIPTION:Unsere wiederkehrenden Spielabende jeden zweiten Mittwoch im Restaurant Chutz – gemütlich\, lehrreich\, kaum mehr wegzudenken…
URL:https://backgammon-solothurn.ch/events/sommerpause-3/
ORGANIZER;CN="Backgammon Revival":MAILTO:info@backgammon-solothurn.ch
END:VEVENT
BEGIN:VEVENT
DTSTART;VALUE=DATE:20260722
DTEND;VALUE=DATE:20260723
DTSTAMP:20260422T030337
CREATED:20260215T105453Z
LAST-MODIFIED:20260215T105453Z
UID:5824-1784678400-1784764799@backgammon-solothurn.ch
SUMMARY:Sommerpause
DESCRIPTION:Unsere wiederkehrenden Spielabende jeden zweiten Mittwoch im Restaurant Chutz – gemütlich\, lehrreich\, kaum mehr wegzudenken…
URL:https://backgammon-solothurn.ch/events/sommerpause-4/
ORGANIZER;CN="Backgammon Revival":MAILTO:info@backgammon-solothurn.ch
END:VEVENT
BEGIN:VEVENT
DTSTART;VALUE=DATE:20260729
DTEND;VALUE=DATE:20260730
DTSTAMP:20260422T030337
CREATED:20260215T105524Z
LAST-MODIFIED:20260215T105524Z
UID:5826-1785283200-1785369599@backgammon-solothurn.ch
SUMMARY:Sommerpause
DESCRIPTION:Unsere wiederkehrenden Spielabende jeden zweiten Mittwoch im Restaurant Chutz – gemütlich\, lehrreich\, kaum mehr wegzudenken…
URL:https://backgammon-solothurn.ch/events/sommerpause-5/
ORGANIZER;CN="Backgammon Revival":MAILTO:info@backgammon-solothurn.ch
END:VEVENT
BEGIN:VEVENT
DTSTART;TZID=UTC:20260805T180000
DTEND;TZID=UTC:20260805T220000
DTSTAMP:20260422T030337
CREATED:20260215T105626Z
LAST-MODIFIED:20260215T105626Z
UID:5828-1785952800-1785967200@backgammon-solothurn.ch
SUMMARY:Backgammon im Chutz
DESCRIPTION:Unsere wiederkehrenden Spielabende jeden zweiten Mittwoch im Restaurant Chutz – gemütlich\, lehrreich\, kaum mehr wegzudenken…
URL:https://backgammon-solothurn.ch/events/backgammon-im-chutz-79/
LOCATION:Galerie im Restaurant Chutz\, Landhausquai 3\, Solothurn\, 4500\, Schweiz
CATEGORIES:Backgammon Training
ORGANIZER;CN="Backgammon Revival":MAILTO:info@backgammon-solothurn.ch
END:VEVENT
BEGIN:VEVENT
DTSTART;TZID=UTC:20260819T180000
DTEND;TZID=UTC:20260819T220000
DTSTAMP:20260422T030337
CREATED:20260215T105824Z
LAST-MODIFIED:20260215T105824Z
UID:5832-1787162400-1787176800@backgammon-solothurn.ch
SUMMARY:Backgammon im Chutz
DESCRIPTION:Unsere wiederkehrenden Spielabende jeden zweiten Mittwoch im Restaurant Chutz – gemütlich\, lehrreich\, kaum mehr wegzudenken…
URL:https://backgammon-solothurn.ch/events/backgammon-im-chutz-83/
LOCATION:Galerie im Restaurant Chutz\, Landhausquai 3\, Solothurn\, 4500\, Schweiz
CATEGORIES:Backgammon Training
ORGANIZER;CN="Backgammon Revival":MAILTO:info@backgammon-solothurn.ch
END:VEVENT
BEGIN:VEVENT
DTSTART;TZID=UTC:20260902T180000
DTEND;TZID=UTC:20260902T220000
DTSTAMP:20260422T030337
CREATED:20260215T105719Z
LAST-MODIFIED:20260215T105753Z
UID:5830-1788372000-1788386400@backgammon-solothurn.ch
SUMMARY:Backgammon im Chutz
DESCRIPTION:Unsere wiederkehrenden Spielabende jeden zweiten Mittwoch im Restaurant Chutz – gemütlich\, lehrreich\, kaum mehr wegzudenken…
URL:https://backgammon-solothurn.ch/events/backgammon-im-chutz-81/
LOCATION:Galerie im Restaurant Chutz\, Landhausquai 3\, Solothurn\, 4500\, Schweiz
CATEGORIES:Backgammon Training
ORGANIZER;CN="Backgammon Revival":MAILTO:info@backgammon-solothurn.ch
END:VEVENT
BEGIN:VEVENT
DTSTART;TZID=UTC:20260912T113000
DTEND;TZID=UTC:20260912T200000
DTSTAMP:20260422T030337
CREATED:20250914T132055Z
LAST-MODIFIED:20250914T151633Z
UID:5733-1789212600-1789243200@backgammon-solothurn.ch
SUMMARY:Südbaden Cup
DESCRIPTION:Unsere wiederkehrenden Spielabende jeden zweiten Mittwoch im Restaurant Chutz – gemütlich\, lehrreich\, kaum mehr wegzudenken…
URL:https://backgammon-solothurn.ch/events/suedbaden-cup-6/
LOCATION:Roccafé in Denzlingen (Saal)\, Hauptstrasse 134\, Denzlingen\, Baden-Württemberg\, 79211
CATEGORIES:Backgammon Turnier
END:VEVENT
BEGIN:VEVENT
DTSTART;TZID=UTC:20260916T180000
DTEND;TZID=UTC:20260916T220000
DTSTAMP:20260422T030337
CREATED:20260215T105903Z
LAST-MODIFIED:20260215T105903Z
UID:5834-1789581600-1789596000@backgammon-solothurn.ch
SUMMARY:Backgammon im Chutz
DESCRIPTION:Unsere wiederkehrenden Spielabende jeden zweiten Mittwoch im Restaurant Chutz – gemütlich\, lehrreich\, kaum mehr wegzudenken…
URL:https://backgammon-solothurn.ch/events/backgammon-im-chutz-85/
LOCATION:Galerie im Restaurant Chutz\, Landhausquai 3\, Solothurn\, 4500\, Schweiz
CATEGORIES:Backgammon Training
ORGANIZER;CN="Backgammon Revival":MAILTO:info@backgammon-solothurn.ch
END:VEVENT
BEGIN:VEVENT
DTSTART;TZID=UTC:20260930T180000
DTEND;TZID=UTC:20260930T220000
DTSTAMP:20260422T030337
CREATED:20260215T105930Z
LAST-MODIFIED:20260215T110014Z
UID:5836-1790791200-1790805600@backgammon-solothurn.ch
SUMMARY:Backgammon im Chutz
DESCRIPTION:Unsere wiederkehrenden Spielabende jeden zweiten Mittwoch im Restaurant Chutz – gemütlich\, lehrreich\, kaum mehr wegzudenken…
URL:https://backgammon-solothurn.ch/events/backgammon-im-chutz-87/
LOCATION:Galerie im Restaurant Chutz\, Landhausquai 3\, Solothurn\, 4500\, Schweiz
CATEGORIES:Backgammon Training
ORGANIZER;CN="Backgammon Revival":MAILTO:info@backgammon-solothurn.ch
END:VEVENT
BEGIN:VEVENT
DTSTART;TZID=UTC:20261014T180000
DTEND;TZID=UTC:20261014T220000
DTSTAMP:20260422T030337
CREATED:20260215T110058Z
LAST-MODIFIED:20260215T110058Z
UID:5838-1792000800-1792015200@backgammon-solothurn.ch
SUMMARY:Backgammon im Chutz
DESCRIPTION:Unsere wiederkehrenden Spielabende jeden zweiten Mittwoch im Restaurant Chutz – gemütlich\, lehrreich\, kaum mehr wegzudenken…
URL:https://backgammon-solothurn.ch/events/backgammon-im-chutz-89/
LOCATION:Galerie im Restaurant Chutz\, Landhausquai 3\, Solothurn\, 4500\, Schweiz
CATEGORIES:Backgammon Training
ORGANIZER;CN="Backgammon Revival":MAILTO:info@backgammon-solothurn.ch
END:VEVENT
BEGIN:VEVENT
DTSTART;TZID=UTC:20261028T180000
DTEND;TZID=UTC:20261028T220000
DTSTAMP:20260422T030337
CREATED:20260215T110122Z
LAST-MODIFIED:20260215T110122Z
UID:5840-1793210400-1793224800@backgammon-solothurn.ch
SUMMARY:Backgammon im Chutz
DESCRIPTION:Unsere wiederkehrenden Spielabende jeden zweiten Mittwoch im Restaurant Chutz – gemütlich\, lehrreich\, kaum mehr wegzudenken…
URL:https://backgammon-solothurn.ch/events/backgammon-im-chutz-91/
LOCATION:Galerie im Restaurant Chutz\, Landhausquai 3\, Solothurn\, 4500\, Schweiz
CATEGORIES:Backgammon Training
ORGANIZER;CN="Backgammon Revival":MAILTO:info@backgammon-solothurn.ch
END:VEVENT
BEGIN:VEVENT
DTSTART;TZID=UTC:20261104T180000
DTEND;TZID=UTC:20261104T220000
DTSTAMP:20260422T030337
CREATED:20260215T110325Z
LAST-MODIFIED:20260215T110325Z
UID:5842-1793815200-1793829600@backgammon-solothurn.ch
SUMMARY:Backgammon im Chutz
DESCRIPTION:Unsere wiederkehrenden Spielabende jeden zweiten Mittwoch im Restaurant Chutz – gemütlich\, lehrreich\, kaum mehr wegzudenken…
URL:https://backgammon-solothurn.ch/events/backgammon-im-chutz-93/
LOCATION:Galerie im Restaurant Chutz\, Landhausquai 3\, Solothurn\, 4500\, Schweiz
CATEGORIES:Backgammon Training
ORGANIZER;CN="Backgammon Revival":MAILTO:info@backgammon-solothurn.ch
END:VEVENT
BEGIN:VEVENT
DTSTART;TZID=UTC:20261111T180000
DTEND;TZID=UTC:20261111T220000
DTSTAMP:20260422T030337
CREATED:20260215T110351Z
LAST-MODIFIED:20260215T110351Z
UID:5845-1794420000-1794434400@backgammon-solothurn.ch
SUMMARY:Backgammon im Chutz
DESCRIPTION:Unsere wiederkehrenden Spielabende jeden zweiten Mittwoch im Restaurant Chutz – gemütlich\, lehrreich\, kaum mehr wegzudenken…
URL:https://backgammon-solothurn.ch/events/backgammon-im-chutz-95/
LOCATION:Galerie im Restaurant Chutz\, Landhausquai 3\, Solothurn\, 4500\, Schweiz
CATEGORIES:Backgammon Training
ORGANIZER;CN="Backgammon Revival":MAILTO:info@backgammon-solothurn.ch
END:VEVENT
BEGIN:VEVENT
DTSTART;TZID=UTC:20261118T180000
DTEND;TZID=UTC:20261118T220000
DTSTAMP:20260422T030337
CREATED:20260215T110408Z
LAST-MODIFIED:20260215T110408Z
UID:5847-1795024800-1795039200@backgammon-solothurn.ch
SUMMARY:Backgammon im Chutz
DESCRIPTION:Unsere wiederkehrenden Spielabende jeden zweiten Mittwoch im Restaurant Chutz – gemütlich\, lehrreich\, kaum mehr wegzudenken…
URL:https://backgammon-solothurn.ch/events/backgammon-im-chutz-96/
LOCATION:Galerie im Restaurant Chutz\, Landhausquai 3\, Solothurn\, 4500\, Schweiz
CATEGORIES:Backgammon Training
ORGANIZER;CN="Backgammon Revival":MAILTO:info@backgammon-solothurn.ch
END:VEVENT
BEGIN:VEVENT
DTSTART;TZID=UTC:20261121T113000
DTEND;TZID=UTC:20261121T200000
DTSTAMP:20260422T030337
CREATED:20250914T132124Z
LAST-MODIFIED:20250914T151652Z
UID:5735-1795260600-1795291200@backgammon-solothurn.ch
SUMMARY:Südbaden Cup
DESCRIPTION:Unsere wiederkehrenden Spielabende jeden zweiten Mittwoch im Restaurant Chutz – gemütlich\, lehrreich\, kaum mehr wegzudenken…
URL:https://backgammon-solothurn.ch/events/suedbaden-cup-7/
LOCATION:Roccafé in Denzlingen (Saal)\, Hauptstrasse 134\, Denzlingen\, Baden-Württemberg\, 79211
CATEGORIES:Backgammon Turnier
END:VEVENT
BEGIN:VEVENT
DTSTART;TZID=UTC:20261125T180000
DTEND;TZID=UTC:20261125T220000
DTSTAMP:20260422T030337
CREATED:20260215T110427Z
LAST-MODIFIED:20260215T110427Z
UID:5849-1795629600-1795644000@backgammon-solothurn.ch
SUMMARY:Backgammon im Chutz
DESCRIPTION:Unsere wiederkehrenden Spielabende jeden zweiten Mittwoch im Restaurant Chutz – gemütlich\, lehrreich\, kaum mehr wegzudenken…
URL:https://backgammon-solothurn.ch/events/backgammon-im-chutz-97/
LOCATION:Galerie im Restaurant Chutz\, Landhausquai 3\, Solothurn\, 4500\, Schweiz
CATEGORIES:Backgammon Training
ORGANIZER;CN="Backgammon Revival":MAILTO:info@backgammon-solothurn.ch
END:VEVENT
BEGIN:VEVENT
DTSTART;TZID=UTC:20261202T180000
DTEND;TZID=UTC:20261202T220000
DTSTAMP:20260422T030337
CREATED:20260215T110502Z
LAST-MODIFIED:20260215T110502Z
UID:5851-1796234400-1796248800@backgammon-solothurn.ch
SUMMARY:Backgammon im Chutz
DESCRIPTION:Unsere wiederkehrenden Spielabende jeden zweiten Mittwoch im Restaurant Chutz – gemütlich\, lehrreich\, kaum mehr wegzudenken…
URL:https://backgammon-solothurn.ch/events/backgammon-im-chutz-98/
LOCATION:Galerie im Restaurant Chutz\, Landhausquai 3\, Solothurn\, 4500\, Schweiz
CATEGORIES:Backgammon Training
ORGANIZER;CN="Backgammon Revival":MAILTO:info@backgammon-solothurn.ch
END:VEVENT
BEGIN:VEVENT
DTSTART;TZID=UTC:20261209T180000
DTEND;TZID=UTC:20261209T220000
DTSTAMP:20260422T030337
CREATED:20260215T110518Z
LAST-MODIFIED:20260215T110518Z
UID:5853-1796839200-1796853600@backgammon-solothurn.ch
SUMMARY:Backgammon im Chutz
DESCRIPTION:Unsere wiederkehrenden Spielabende jeden zweiten Mittwoch im Restaurant Chutz – gemütlich\, lehrreich\, kaum mehr wegzudenken…
URL:https://backgammon-solothurn.ch/events/backgammon-im-chutz-99/
LOCATION:Galerie im Restaurant Chutz\, Landhausquai 3\, Solothurn\, 4500\, Schweiz
CATEGORIES:Backgammon Training
ORGANIZER;CN="Backgammon Revival":MAILTO:info@backgammon-solothurn.ch
END:VEVENT
BEGIN:VEVENT
DTSTART;TZID=UTC:20261216T180000
DTEND;TZID=UTC:20261216T220000
DTSTAMP:20260422T030337
CREATED:20260215T110542Z
LAST-MODIFIED:20260215T110750Z
UID:5855-1797444000-1797458400@backgammon-solothurn.ch
SUMMARY:Backgammon im Chutz - letzter Spielabend 2026!
DESCRIPTION:Unsere wiederkehrenden Spielabende jeden zweiten Mittwoch im Restaurant Chutz – gemütlich\, lehrreich\, kaum mehr wegzudenken…
URL:https://backgammon-solothurn.ch/events/backgammon-im-chutz-100/
LOCATION:Galerie im Restaurant Chutz\, Landhausquai 3\, Solothurn\, 4500\, Schweiz
CATEGORIES:Backgammon Training
ORGANIZER;CN="Backgammon Revival":MAILTO:info@backgammon-solothurn.ch
END:VEVENT
END:VCALENDAR